Package: SeqGSEA Version: 1.47.0 Command: /Library/Frameworks/R.framework/Resources/bin/R CMD check --install=check:SeqGSEA.install-out.txt --library=/Library/Frameworks/R.framework/Resources/library --no-vignettes --timings SeqGSEA_1.47.0.tar.gz StartedAt: 2025-02-09 21:19:33 -0500 (Sun, 09 Feb 2025) EndedAt: 2025-02-09 21:21:28 -0500 (Sun, 09 Feb 2025) EllapsedTime: 115.4 seconds RetCode: 0 Status: OK CheckDir: SeqGSEA.Rcheck Warnings: 0