Package: SeqGSEA Version: 1.47.0 Command: /home/biocbuild/R/R/bin/R CMD build --keep-empty-dirs --no-resave-data SeqGSEA StartedAt: 2025-01-29 02:18:13 -0000 (Wed, 29 Jan 2025) EndedAt: 2025-01-29 02:21:36 -0000 (Wed, 29 Jan 2025) EllapsedTime: 203.2 seconds RetCode: 0 Status: OK PackageFile: SeqGSEA_1.47.0.tar.gz PackageFileSize: 1.668 MiB