Package: SeqGSEA Version: 1.47.0 Command: /home/biocbuild/R/R/bin/R CMD INSTALL SeqGSEA StartedAt: 2025-01-29 20:02:28 -0000 (Wed, 29 Jan 2025) EndedAt: 2025-01-29 20:03:14 -0000 (Wed, 29 Jan 2025) EllapsedTime: 46.0 seconds RetCode: 0 Status: OK