Package: SeqGSEA Version: 1.47.0 Command: rm -rf SeqGSEA.buildbin-libdir && mkdir SeqGSEA.buildbin-libdir && /Users/biocbuild/BBS/utils/build-universal.sh SeqGSEA_1.47.0.tar.gz /Library/Frameworks/R.framework/Resources/bin/R SeqGSEA.buildbin-libdir StartedAt: 2025-02-05 01:02:02 -0500 (Wed, 05 Feb 2025) EndedAt: 2025-02-05 01:02:49 -0500 (Wed, 05 Feb 2025) EllapsedTime: 47.0 seconds RetCode: 0 Status: OK PackageFile: SeqGSEA_1.47.0.tgz PackageFileSize: 2.072 MiB