Package: SeqGSEA Version: 1.47.0 Command: /Library/Frameworks/R.framework/Resources/bin/R CMD check --install=check:SeqGSEA.install-out.txt --library=/Library/Frameworks/R.framework/Resources/library --no-vignettes --timings SeqGSEA_1.47.0.tar.gz StartedAt: 2025-02-04 23:14:47 -0500 (Tue, 04 Feb 2025) EndedAt: 2025-02-04 23:21:01 -0500 (Tue, 04 Feb 2025) EllapsedTime: 374.1 seconds RetCode: 0 Status: OK CheckDir: SeqGSEA.Rcheck Warnings: 0