Package: SeqGSEA Version: 1.47.0 Command: /Library/Frameworks/R.framework/Resources/bin/R CMD INSTALL SeqGSEA StartedAt: 2025-02-04 15:21:22 -0500 (Tue, 04 Feb 2025) EndedAt: 2025-02-04 15:22:04 -0500 (Tue, 04 Feb 2025) EllapsedTime: 42.5 seconds RetCode: 0 Status: OK