Package: SeqGSEA Version: 1.47.0 Command: /home/biocbuild/bbs-3.21-bioc/R/bin/R CMD build --keep-empty-dirs --no-resave-data SeqGSEA StartedAt: 2025-02-09 19:15:05 -0500 (Sun, 09 Feb 2025) EndedAt: 2025-02-09 19:18:04 -0500 (Sun, 09 Feb 2025) EllapsedTime: 179.2 seconds RetCode: 1 Status: ERROR PackageFile: None PackageFileSize: NA