Package: SeqGSEA Version: 1.47.0 Command: /home/biocbuild/bbs-3.21-bioc/R/bin/R CMD INSTALL SeqGSEA StartedAt: 2025-02-04 15:23:55 -0500 (Tue, 04 Feb 2025) EndedAt: 2025-02-04 15:24:27 -0500 (Tue, 04 Feb 2025) EllapsedTime: 32.2 seconds RetCode: 0 Status: OK