Package: SeqGSEA Version: 1.47.0 Command: rm -rf SeqGSEA.buildbin-libdir && mkdir SeqGSEA.buildbin-libdir && E:\biocbuild\bbs-3.21-bioc\R\bin\R.exe CMD INSTALL --build --library=SeqGSEA.buildbin-libdir SeqGSEA_1.47.0.tar.gz StartedAt: 2025-02-10 08:41:50 -0500 (Mon, 10 Feb 2025) EndedAt: 2025-02-10 08:43:01 -0500 (Mon, 10 Feb 2025) EllapsedTime: 70.6 seconds RetCode: 0 Status: OK PackageFile: SeqGSEA_1.47.0.zip PackageFileSize: 1.582 MiB