Package: SeqGSEA Version: 1.47.0 Command: chmod a+r SeqGSEA -R && E:\biocbuild\bbs-3.21-bioc\R\bin\R.exe CMD build --keep-empty-dirs --no-resave-data SeqGSEA StartedAt: 2025-02-12 21:43:17 -0500 (Wed, 12 Feb 2025) EndedAt: 2025-02-12 21:47:24 -0500 (Wed, 12 Feb 2025) EllapsedTime: 247.0 seconds RetCode: 0 Status: OK PackageFile: SeqGSEA_1.47.0.tar.gz PackageFileSize: 1.121 MiB