Package: SeqGSEA Version: 1.47.0 Command: E:\biocbuild\bbs-3.21-bioc\R\bin\R.exe CMD INSTALL SeqGSEA StartedAt: 2025-02-09 16:15:11 -0500 (Sun, 09 Feb 2025) EndedAt: 2025-02-09 16:16:07 -0500 (Sun, 09 Feb 2025) EllapsedTime: 56.5 seconds RetCode: 0 Status: OK