Package: SeqSQC Version: 1.29.0 Command: /Library/Frameworks/R.framework/Resources/bin/R CMD build --keep-empty-dirs --no-resave-data SeqSQC StartedAt: 2025-02-09 18:26:59 -0500 (Sun, 09 Feb 2025) EndedAt: 2025-02-09 18:28:02 -0500 (Sun, 09 Feb 2025) EllapsedTime: 62.7 seconds RetCode: 0 Status: OK PackageFile: SeqSQC_1.29.0.tar.gz PackageFileSize: 4.529 MiB