Package: SeqSQC Version: 1.29.0 Command: /Library/Frameworks/R.framework/Resources/bin/R CMD check --install=check:SeqSQC.install-out.txt --library=/Library/Frameworks/R.framework/Resources/library --no-vignettes --timings SeqSQC_1.29.0.tar.gz StartedAt: 2025-02-09 23:34:46 -0500 (Sun, 09 Feb 2025) EndedAt: 2025-02-09 23:38:04 -0500 (Sun, 09 Feb 2025) EllapsedTime: 198.2 seconds RetCode: 0 Status: WARNINGS CheckDir: SeqSQC.Rcheck Warnings: 1