Package: SeqSQC Version: 1.29.0 Command: /home/biocbuild/bbs-3.21-bioc/R/bin/R CMD INSTALL SeqSQC StartedAt: 2025-02-12 15:26:48 -0500 (Wed, 12 Feb 2025) EndedAt: 2025-02-12 15:27:08 -0500 (Wed, 12 Feb 2025) EllapsedTime: 19.6 seconds RetCode: 0 Status: OK