Package: SeqSQC Version: 1.29.0 Command: rm -rf SeqSQC.buildbin-libdir && mkdir SeqSQC.buildbin-libdir && E:\biocbuild\bbs-3.21-bioc\R\bin\R.exe CMD INSTALL --build --library=SeqSQC.buildbin-libdir SeqSQC_1.29.0.tar.gz StartedAt: 2025-02-10 08:42:08 -0500 (Mon, 10 Feb 2025) EndedAt: 2025-02-10 08:42:56 -0500 (Mon, 10 Feb 2025) EllapsedTime: 47.5 seconds RetCode: 0 Status: OK PackageFile: SeqSQC_1.29.0.zip PackageFileSize: 4.657 MiB