Package: SeqVarTools Version: 1.45.0 Command: rm -rf SeqVarTools.buildbin-libdir && mkdir SeqVarTools.buildbin-libdir && /Users/biocbuild/BBS/utils/build-universal.sh SeqVarTools_1.45.0.tar.gz /Library/Frameworks/R.framework/Resources/bin/R SeqVarTools.buildbin-libdir StartedAt: 2025-02-09 22:30:49 -0500 (Sun, 09 Feb 2025) EndedAt: 2025-02-09 22:30:59 -0500 (Sun, 09 Feb 2025) EllapsedTime: 9.2 seconds RetCode: 0 Status: OK PackageFile: SeqVarTools_1.45.0.tgz PackageFileSize: 1.428 MiB