Package: SeqVarTools Version: 1.45.0 Command: /Library/Frameworks/R.framework/Resources/bin/R CMD build --keep-empty-dirs --no-resave-data SeqVarTools StartedAt: 2025-02-09 17:36:23 -0500 (Sun, 09 Feb 2025) EndedAt: 2025-02-09 17:36:45 -0500 (Sun, 09 Feb 2025) EllapsedTime: 21.3 seconds RetCode: 0 Status: OK PackageFile: SeqVarTools_1.45.0.tar.gz PackageFileSize: 1001 KiB