Package: SeqVarTools Version: 1.45.0 Command: /Library/Frameworks/R.framework/Resources/bin/R CMD check --install=check:SeqVarTools.install-out.txt --library=/Library/Frameworks/R.framework/Resources/library --no-vignettes --timings SeqVarTools_1.45.0.tar.gz StartedAt: 2025-02-12 21:25:53 -0500 (Wed, 12 Feb 2025) EndedAt: 2025-02-12 21:26:54 -0500 (Wed, 12 Feb 2025) EllapsedTime: 60.8 seconds RetCode: 0 Status: OK CheckDir: SeqVarTools.Rcheck Warnings: 0