Package: SeqVarTools Version: 1.45.0 Command: /Library/Frameworks/R.framework/Resources/bin/R CMD INSTALL SeqVarTools StartedAt: 2025-02-12 15:20:55 -0500 (Wed, 12 Feb 2025) EndedAt: 2025-02-12 15:21:04 -0500 (Wed, 12 Feb 2025) EllapsedTime: 8.8 seconds RetCode: 0 Status: OK