Package: SeqVarTools Version: 1.45.0 Command: /home/biocbuild/R/R/bin/R CMD check --install=check:SeqVarTools.install-out.txt --library=/home/biocbuild/R/R/site-library --no-vignettes --timings SeqVarTools_1.45.0.tar.gz StartedAt: 2025-01-28 15:15:53 -0000 (Tue, 28 Jan 2025) EndedAt: 2025-01-28 15:19:16 -0000 (Tue, 28 Jan 2025) EllapsedTime: 203.2 seconds RetCode: 0 Status: OK CheckDir: SeqVarTools.Rcheck Warnings: 0