Package: SeqVarTools Version: 1.45.0 Command: /home/biocbuild/bbs-3.21-bioc/R/bin/R CMD build --keep-empty-dirs --no-resave-data SeqVarTools StartedAt: 2025-02-12 19:11:37 -0500 (Wed, 12 Feb 2025) EndedAt: 2025-02-12 19:12:25 -0500 (Wed, 12 Feb 2025) EllapsedTime: 48.1 seconds RetCode: 0 Status: OK PackageFile: SeqVarTools_1.45.0.tar.gz PackageFileSize: 1001 KiB