Package: SharedObject Version: 1.21.0 Command: /home/biocbuild/R/R/bin/R CMD INSTALL SharedObject StartedAt: 2025-01-29 19:31:06 -0000 (Wed, 29 Jan 2025) EndedAt: 2025-01-29 19:31:51 -0000 (Wed, 29 Jan 2025) EllapsedTime: 44.8 seconds RetCode: 0 Status: OK