Package: SharedObject Version: 1.21.0 Command: /Library/Frameworks/R.framework/Resources/bin/R CMD INSTALL SharedObject StartedAt: 2025-02-09 15:04:27 -0500 (Sun, 09 Feb 2025) EndedAt: 2025-02-09 15:05:05 -0500 (Sun, 09 Feb 2025) EllapsedTime: 38.5 seconds RetCode: 0 Status: OK