Package: SharedObject Version: 1.21.0 Command: /home/biocbuild/bbs-3.21-bioc/R/bin/R CMD build --keep-empty-dirs --no-resave-data SharedObject StartedAt: 2025-02-09 19:16:15 -0500 (Sun, 09 Feb 2025) EndedAt: 2025-02-09 19:16:54 -0500 (Sun, 09 Feb 2025) EllapsedTime: 39.1 seconds RetCode: 0 Status: OK PackageFile: SharedObject_1.21.0.tar.gz PackageFileSize: 2.825 MiB