Package: SharedObject Version: 1.21.0 Command: /home/biocbuild/bbs-3.21-bioc/R/bin/R CMD check --install=check:SharedObject.install-out.txt --library=/home/biocbuild/bbs-3.21-bioc/R/site-library --timings SharedObject_1.21.0.tar.gz StartedAt: 2025-02-10 02:37:49 -0500 (Mon, 10 Feb 2025) EndedAt: 2025-02-10 02:39:10 -0500 (Mon, 10 Feb 2025) EllapsedTime: 81.2 seconds RetCode: 0 Status: WARNINGS CheckDir: SharedObject.Rcheck Warnings: 2