Package: SharedObject Version: 1.21.0 Command: /home/biocbuild/bbs-3.21-bioc/R/bin/R CMD INSTALL SharedObject StartedAt: 2025-02-09 15:11:50 -0500 (Sun, 09 Feb 2025) EndedAt: 2025-02-09 15:12:17 -0500 (Sun, 09 Feb 2025) EllapsedTime: 27.6 seconds RetCode: 0 Status: OK