Package: SharedObject Version: 1.21.0 Command: chmod a+r SharedObject -R && E:\biocbuild\bbs-3.21-bioc\R\bin\R.exe CMD build --keep-empty-dirs --no-resave-data SharedObject StartedAt: 2025-02-09 21:39:07 -0500 (Sun, 09 Feb 2025) EndedAt: 2025-02-09 21:41:37 -0500 (Sun, 09 Feb 2025) EllapsedTime: 150.2 seconds RetCode: 0 Status: OK PackageFile: SharedObject_1.21.0.tar.gz PackageFileSize: 896.8 KiB