Package: SharedObject Version: 1.21.0 Command: E:\biocbuild\bbs-3.21-bioc\R\bin\R.exe CMD check --no-multiarch --install=check:SharedObject.install-out.txt --library=E:\biocbuild\bbs-3.21-bioc\R\library --no-vignettes --timings SharedObject_1.21.0.tar.gz StartedAt: 2025-02-10 05:25:29 -0500 (Mon, 10 Feb 2025) EndedAt: 2025-02-10 05:27:24 -0500 (Mon, 10 Feb 2025) EllapsedTime: 115.1 seconds RetCode: 0 Status: WARNINGS CheckDir: SharedObject.Rcheck Warnings: 1