Package: ShortRead Version: 1.65.0 Command: /home/biocbuild/R/R/bin/R CMD build --keep-empty-dirs --no-resave-data ShortRead StartedAt: 2025-01-29 02:20:33 -0000 (Wed, 29 Jan 2025) EndedAt: 2025-01-29 02:22:06 -0000 (Wed, 29 Jan 2025) EllapsedTime: 92.1 seconds RetCode: 0 Status: OK PackageFile: ShortRead_1.65.0.tar.gz PackageFileSize: 5.129 MiB