Package: ShortRead Version: 1.65.0 Command: rm -rf ShortRead.buildbin-libdir && mkdir ShortRead.buildbin-libdir && /Users/biocbuild/BBS/utils/build-universal.sh ShortRead_1.65.0.tar.gz /Library/Frameworks/R.framework/Resources/bin/R ShortRead.buildbin-libdir StartedAt: 2025-02-10 01:16:35 -0500 (Mon, 10 Feb 2025) EndedAt: 2025-02-10 01:18:00 -0500 (Mon, 10 Feb 2025) EllapsedTime: 85.2 seconds RetCode: 0 Status: OK PackageFile: ShortRead_1.65.0.tgz PackageFileSize: 5.492 MiB