Package: SigCheck Version: 2.39.0 Command: /Library/Frameworks/R.framework/Resources/bin/R CMD build --keep-empty-dirs --no-resave-data SigCheck StartedAt: 2025-02-09 17:36:58 -0500 (Sun, 09 Feb 2025) EndedAt: 2025-02-09 17:37:11 -0500 (Sun, 09 Feb 2025) EllapsedTime: 13.2 seconds RetCode: 1 Status: ERROR PackageFile: None PackageFileSize: NA