Package: SigCheck Version: 2.39.0 Command: /Library/Frameworks/R.framework/Resources/bin/R CMD INSTALL SigCheck StartedAt: 2025-02-03 15:56:24 -0500 (Mon, 03 Feb 2025) EndedAt: 2025-02-03 15:56:35 -0500 (Mon, 03 Feb 2025) EllapsedTime: 11.5 seconds RetCode: 0 Status: OK