Package: SigCheck Version: 2.39.0 Command: /Library/Frameworks/R.framework/Resources/bin/R CMD build --keep-empty-dirs --no-resave-data SigCheck StartedAt: 2025-02-03 18:24:03 -0500 (Mon, 03 Feb 2025) EndedAt: 2025-02-03 18:24:38 -0500 (Mon, 03 Feb 2025) EllapsedTime: 34.3 seconds RetCode: 1 Status: ERROR PackageFile: None PackageFileSize: NA