Package: SigCheck Version: 2.39.0 Command: /Library/Frameworks/R.framework/Resources/bin/R CMD INSTALL SigCheck StartedAt: 2025-02-09 15:34:30 -0500 (Sun, 09 Feb 2025) EndedAt: 2025-02-09 15:35:11 -0500 (Sun, 09 Feb 2025) EllapsedTime: 41.2 seconds RetCode: 0 Status: OK