Package: SigCheck Version: 2.39.0 Command: /home/biocbuild/bbs-3.21-bioc/R/bin/R CMD build --keep-empty-dirs --no-resave-data SigCheck StartedAt: 2025-02-03 19:25:24 -0500 (Mon, 03 Feb 2025) EndedAt: 2025-02-03 19:25:55 -0500 (Mon, 03 Feb 2025) EllapsedTime: 31.0 seconds RetCode: 1 Status: ERROR PackageFile: None PackageFileSize: NA