Package: SigCheck Version: 2.39.0 Command: /home/biocbuild/bbs-3.21-bioc/R/bin/R CMD INSTALL SigCheck StartedAt: 2025-02-03 15:36:41 -0500 (Mon, 03 Feb 2025) EndedAt: 2025-02-03 15:37:13 -0500 (Mon, 03 Feb 2025) EllapsedTime: 32.4 seconds RetCode: 0 Status: OK