Package: SigCheck Version: 2.39.0 Command: chmod a+r SigCheck -R && E:\biocbuild\bbs-3.21-bioc\R\bin\R.exe CMD build --keep-empty-dirs --no-resave-data SigCheck StartedAt: 2025-02-03 21:52:39 -0500 (Mon, 03 Feb 2025) EndedAt: 2025-02-03 21:53:35 -0500 (Mon, 03 Feb 2025) EllapsedTime: 56.6 seconds RetCode: 1 Status: ERROR PackageFile: None PackageFileSize: NA