Package: SigCheck Version: 2.39.0 Command: E:\biocbuild\bbs-3.21-bioc\R\bin\R.exe CMD INSTALL SigCheck StartedAt: 2025-02-09 16:09:01 -0500 (Sun, 09 Feb 2025) EndedAt: 2025-02-09 16:09:53 -0500 (Sun, 09 Feb 2025) EllapsedTime: 52.0 seconds RetCode: 0 Status: OK