Package: SigsPack Version: 1.21.0 Command: /home/biocbuild/R/R/bin/R CMD build --keep-empty-dirs --no-resave-data SigsPack StartedAt: 2025-01-29 02:22:02 -0000 (Wed, 29 Jan 2025) EndedAt: 2025-01-29 02:24:01 -0000 (Wed, 29 Jan 2025) EllapsedTime: 119.1 seconds RetCode: 0 Status: OK PackageFile: SigsPack_1.21.0.tar.gz PackageFileSize: 472.3 KiB