Package: SigsPack Version: 1.21.0 Command: rm -rf SigsPack.buildbin-libdir && mkdir SigsPack.buildbin-libdir && /Users/biocbuild/BBS/utils/build-universal.sh SigsPack_1.21.0.tar.gz /Library/Frameworks/R.framework/Resources/bin/R SigsPack.buildbin-libdir StartedAt: 2025-02-10 01:16:58 -0500 (Mon, 10 Feb 2025) EndedAt: 2025-02-10 01:17:05 -0500 (Mon, 10 Feb 2025) EllapsedTime: 7.0 seconds RetCode: 0 Status: OK PackageFile: SigsPack_1.21.0.tgz PackageFileSize: 541.3 KiB