Package: SigsPack Version: 1.21.0 Command: /Library/Frameworks/R.framework/Resources/bin/R CMD build --keep-empty-dirs --no-resave-data SigsPack StartedAt: 2025-02-12 18:21:02 -0500 (Wed, 12 Feb 2025) EndedAt: 2025-02-12 18:22:35 -0500 (Wed, 12 Feb 2025) EllapsedTime: 93.7 seconds RetCode: 0 Status: OK PackageFile: SigsPack_1.21.0.tar.gz PackageFileSize: 525 KiB