Package: SigsPack Version: 1.21.0 Command: /Library/Frameworks/R.framework/Resources/bin/R CMD check --install=check:SigsPack.install-out.txt --library=/Library/Frameworks/R.framework/Resources/library --no-vignettes --timings SigsPack_1.21.0.tar.gz StartedAt: 2025-02-09 23:38:41 -0500 (Sun, 09 Feb 2025) EndedAt: 2025-02-09 23:41:18 -0500 (Sun, 09 Feb 2025) EllapsedTime: 157.6 seconds RetCode: 0 Status: OK CheckDir: SigsPack.Rcheck Warnings: 0