Package: SigsPack Version: 1.21.0 Command: /home/biocbuild/bbs-3.21-bioc/R/bin/R CMD build --keep-empty-dirs --no-resave-data SigsPack StartedAt: 2025-02-09 19:17:29 -0500 (Sun, 09 Feb 2025) EndedAt: 2025-02-09 19:18:58 -0500 (Sun, 09 Feb 2025) EllapsedTime: 89.1 seconds RetCode: 0 Status: OK PackageFile: SigsPack_1.21.0.tar.gz PackageFileSize: 508.8 KiB