Package: SigsPack Version: 1.21.0 Command: /home/biocbuild/bbs-3.21-bioc/R/bin/R CMD check --install=check:SigsPack.install-out.txt --library=/home/biocbuild/bbs-3.21-bioc/R/site-library --timings SigsPack_1.21.0.tar.gz StartedAt: 2025-02-13 02:40:38 -0500 (Thu, 13 Feb 2025) EndedAt: 2025-02-13 02:44:26 -0500 (Thu, 13 Feb 2025) EllapsedTime: 228.4 seconds RetCode: 0 Status: OK CheckDir: SigsPack.Rcheck Warnings: 0