Package: SigsPack Version: 1.21.0 Command: E:\biocbuild\bbs-3.21-bioc\R\bin\R.exe CMD check --no-multiarch --install=check:SigsPack.install-out.txt --library=E:\biocbuild\bbs-3.21-bioc\R\library --no-vignettes --timings SigsPack_1.21.0.tar.gz StartedAt: 2025-02-13 05:37:06 -0500 (Thu, 13 Feb 2025) EndedAt: 2025-02-13 05:44:54 -0500 (Thu, 13 Feb 2025) EllapsedTime: 468.0 seconds RetCode: 0 Status: OK CheckDir: SigsPack.Rcheck Warnings: 0