Package: SimBu Version: 1.9.0 Command: /Library/Frameworks/R.framework/Resources/bin/R CMD INSTALL SimBu StartedAt: 2025-02-12 15:22:33 -0500 (Wed, 12 Feb 2025) EndedAt: 2025-02-12 15:22:36 -0500 (Wed, 12 Feb 2025) EllapsedTime: 3.3 seconds RetCode: 0 Status: OK