Package: SimBu Version: 1.9.0 Command: /Library/Frameworks/R.framework/Resources/bin/R CMD build --keep-empty-dirs --no-resave-data SimBu StartedAt: 2025-02-09 18:28:59 -0500 (Sun, 09 Feb 2025) EndedAt: 2025-02-09 18:29:53 -0500 (Sun, 09 Feb 2025) EllapsedTime: 53.7 seconds RetCode: 0 Status: OK PackageFile: SimBu_1.9.0.tar.gz PackageFileSize: 220.6 KiB