Package: SimBu Version: 1.9.0 Command: /Library/Frameworks/R.framework/Resources/bin/R CMD check --install=check:SimBu.install-out.txt --library=/Library/Frameworks/R.framework/Resources/library --no-vignettes --timings SimBu_1.9.0.tar.gz StartedAt: 2025-02-09 23:39:19 -0500 (Sun, 09 Feb 2025) EndedAt: 2025-02-09 23:42:55 -0500 (Sun, 09 Feb 2025) EllapsedTime: 216.2 seconds RetCode: 0 Status: OK CheckDir: SimBu.Rcheck Warnings: 0