Package: SimBu Version: 1.9.0 Command: /home/biocbuild/bbs-3.21-bioc/R/bin/R CMD INSTALL SimBu StartedAt: 2025-02-09 15:17:05 -0500 (Sun, 09 Feb 2025) EndedAt: 2025-02-09 15:17:10 -0500 (Sun, 09 Feb 2025) EllapsedTime: 5.1 seconds RetCode: 0 Status: OK