Package: SimBu Version: 1.9.0 Command: rm -rf SimBu.buildbin-libdir && mkdir SimBu.buildbin-libdir && E:\biocbuild\bbs-3.21-bioc\R\bin\R.exe CMD INSTALL --build --library=SimBu.buildbin-libdir SimBu_1.9.0.tar.gz StartedAt: 2025-02-13 08:54:27 -0500 (Thu, 13 Feb 2025) EndedAt: 2025-02-13 08:54:51 -0500 (Thu, 13 Feb 2025) EllapsedTime: 23.8 seconds RetCode: 0 Status: OK PackageFile: SimBu_1.9.0.zip PackageFileSize: 229.3 KiB